BEGIN:VCALENDAR
VERSION:2.0
PRODID:-//Yellow Creek Baptist Church - ECPv6.15.20//NONSGML v1.0//EN
CALSCALE:GREGORIAN
METHOD:PUBLISH
X-WR-CALNAME:Yellow Creek Baptist Church
X-ORIGINAL-URL:https://www.yellowcreekbaptist.com
X-WR-CALDESC:Events for Yellow Creek Baptist Church
REFRESH-INTERVAL;VALUE=DURATION:PT1H
X-Robots-Tag:noindex
X-PUBLISHED-TTL:PT1H
BEGIN:VTIMEZONE
TZID:America/Chicago
BEGIN:DAYLIGHT
TZOFFSETFROM:-0600
TZOFFSETTO:-0500
TZNAME:CDT
DTSTART:20240310T080000
END:DAYLIGHT
BEGIN:STANDARD
TZOFFSETFROM:-0500
TZOFFSETTO:-0600
TZNAME:CST
DTSTART:20241103T070000
END:STANDARD
BEGIN:DAYLIGHT
TZOFFSETFROM:-0600
TZOFFSETTO:-0500
TZNAME:CDT
DTSTART:20250309T080000
END:DAYLIGHT
BEGIN:STANDARD
TZOFFSETFROM:-0500
TZOFFSETTO:-0600
TZNAME:CST
DTSTART:20251102T070000
END:STANDARD
BEGIN:DAYLIGHT
TZOFFSETFROM:-0600
TZOFFSETTO:-0500
TZNAME:CDT
DTSTART:20260308T080000
END:DAYLIGHT
BEGIN:STANDARD
TZOFFSETFROM:-0500
TZOFFSETTO:-0600
TZNAME:CST
DTSTART:20261101T070000
END:STANDARD
END:VTIMEZONE
BEGIN:VEVENT
DTSTART;TZID=America/Chicago:20251102T090000
DTEND;TZID=America/Chicago:20251102T100000
DTSTAMP:20260425T204411
CREATED:20250705T204145Z
LAST-MODIFIED:20250705T204455Z
UID:10002586-1762074000-1762077600@www.yellowcreekbaptist.com
SUMMARY:Worship Service
DESCRIPTION:Our Sunday morning service is our primary worship service for the week.  Please join us @ 9:00am each Sunday in-person\, on our FaceBook page (https://www.facebook.com/YellowCreekBaptist/)\, or on our YouTube channel (https://www.youtube.com/@yellowcreekbaptistchurch).  Come worship the Lord with us! \nIf joining us in-person\, plan to stay for our smaller\, class-sized Bible study time @ 10:30.\nCoffee and donuts are served between the service and Bible study times.
URL:https://www.yellowcreekbaptist.com/event/worship-service/2025-11-02/
LOCATION:5741 State Route 144\, Owensboro\, KY\, 5741 State Route 144\, Owensboro\, Kentucky\, 42303
END:VEVENT
BEGIN:VEVENT
DTSTART;TZID=America/Chicago:20251026T090000
DTEND;TZID=America/Chicago:20251026T100000
DTSTAMP:20260425T204411
CREATED:20250705T204145Z
LAST-MODIFIED:20250705T204455Z
UID:10002585-1761469200-1761472800@www.yellowcreekbaptist.com
SUMMARY:Worship Service
DESCRIPTION:Our Sunday morning service is our primary worship service for the week.  Please join us @ 9:00am each Sunday in-person\, on our FaceBook page (https://www.facebook.com/YellowCreekBaptist/)\, or on our YouTube channel (https://www.youtube.com/@yellowcreekbaptistchurch).  Come worship the Lord with us! \nIf joining us in-person\, plan to stay for our smaller\, class-sized Bible study time @ 10:30.\nCoffee and donuts are served between the service and Bible study times.
URL:https://www.yellowcreekbaptist.com/event/worship-service/2025-10-26/
LOCATION:5741 State Route 144\, Owensboro\, KY\, 5741 State Route 144\, Owensboro\, Kentucky\, 42303
END:VEVENT
BEGIN:VEVENT
DTSTART;TZID=America/Chicago:20251019T090000
DTEND;TZID=America/Chicago:20251019T100000
DTSTAMP:20260425T204411
CREATED:20250705T204145Z
LAST-MODIFIED:20250705T204455Z
UID:10002584-1760864400-1760868000@www.yellowcreekbaptist.com
SUMMARY:Worship Service
DESCRIPTION:Our Sunday morning service is our primary worship service for the week.  Please join us @ 9:00am each Sunday in-person\, on our FaceBook page (https://www.facebook.com/YellowCreekBaptist/)\, or on our YouTube channel (https://www.youtube.com/@yellowcreekbaptistchurch).  Come worship the Lord with us! \nIf joining us in-person\, plan to stay for our smaller\, class-sized Bible study time @ 10:30.\nCoffee and donuts are served between the service and Bible study times.
URL:https://www.yellowcreekbaptist.com/event/worship-service/2025-10-19/
LOCATION:5741 State Route 144\, Owensboro\, KY\, 5741 State Route 144\, Owensboro\, Kentucky\, 42303
END:VEVENT
BEGIN:VEVENT
DTSTART;TZID=America/Chicago:20251012T090000
DTEND;TZID=America/Chicago:20251012T100000
DTSTAMP:20260425T204411
CREATED:20250705T204145Z
LAST-MODIFIED:20250705T204455Z
UID:10002583-1760259600-1760263200@www.yellowcreekbaptist.com
SUMMARY:Worship Service
DESCRIPTION:Our Sunday morning service is our primary worship service for the week.  Please join us @ 9:00am each Sunday in-person\, on our FaceBook page (https://www.facebook.com/YellowCreekBaptist/)\, or on our YouTube channel (https://www.youtube.com/@yellowcreekbaptistchurch).  Come worship the Lord with us! \nIf joining us in-person\, plan to stay for our smaller\, class-sized Bible study time @ 10:30.\nCoffee and donuts are served between the service and Bible study times.
URL:https://www.yellowcreekbaptist.com/event/worship-service/2025-10-12/
LOCATION:5741 State Route 144\, Owensboro\, KY\, 5741 State Route 144\, Owensboro\, Kentucky\, 42303
END:VEVENT
BEGIN:VEVENT
DTSTART;TZID=America/Chicago:20251005T090000
DTEND;TZID=America/Chicago:20251005T100000
DTSTAMP:20260425T204411
CREATED:20250705T204145Z
LAST-MODIFIED:20250705T204455Z
UID:10002582-1759654800-1759658400@www.yellowcreekbaptist.com
SUMMARY:Worship Service
DESCRIPTION:Our Sunday morning service is our primary worship service for the week.  Please join us @ 9:00am each Sunday in-person\, on our FaceBook page (https://www.facebook.com/YellowCreekBaptist/)\, or on our YouTube channel (https://www.youtube.com/@yellowcreekbaptistchurch).  Come worship the Lord with us! \nIf joining us in-person\, plan to stay for our smaller\, class-sized Bible study time @ 10:30.\nCoffee and donuts are served between the service and Bible study times.
URL:https://www.yellowcreekbaptist.com/event/worship-service/2025-10-05/
LOCATION:5741 State Route 144\, Owensboro\, KY\, 5741 State Route 144\, Owensboro\, Kentucky\, 42303
END:VEVENT
BEGIN:VEVENT
DTSTART;TZID=America/Chicago:20250928T090000
DTEND;TZID=America/Chicago:20250928T100000
DTSTAMP:20260425T204411
CREATED:20250705T204145Z
LAST-MODIFIED:20250705T204455Z
UID:10002581-1759050000-1759053600@www.yellowcreekbaptist.com
SUMMARY:Worship Service
DESCRIPTION:Our Sunday morning service is our primary worship service for the week.  Please join us @ 9:00am each Sunday in-person\, on our FaceBook page (https://www.facebook.com/YellowCreekBaptist/)\, or on our YouTube channel (https://www.youtube.com/@yellowcreekbaptistchurch).  Come worship the Lord with us! \nIf joining us in-person\, plan to stay for our smaller\, class-sized Bible study time @ 10:30.\nCoffee and donuts are served between the service and Bible study times.
URL:https://www.yellowcreekbaptist.com/event/worship-service/2025-09-28/
LOCATION:5741 State Route 144\, Owensboro\, KY\, 5741 State Route 144\, Owensboro\, Kentucky\, 42303
END:VEVENT
BEGIN:VEVENT
DTSTART;TZID=America/Chicago:20250921T090000
DTEND;TZID=America/Chicago:20250921T100000
DTSTAMP:20260425T204411
CREATED:20250705T204145Z
LAST-MODIFIED:20250705T204455Z
UID:10002580-1758445200-1758448800@www.yellowcreekbaptist.com
SUMMARY:Worship Service
DESCRIPTION:Our Sunday morning service is our primary worship service for the week.  Please join us @ 9:00am each Sunday in-person\, on our FaceBook page (https://www.facebook.com/YellowCreekBaptist/)\, or on our YouTube channel (https://www.youtube.com/@yellowcreekbaptistchurch).  Come worship the Lord with us! \nIf joining us in-person\, plan to stay for our smaller\, class-sized Bible study time @ 10:30.\nCoffee and donuts are served between the service and Bible study times.
URL:https://www.yellowcreekbaptist.com/event/worship-service/2025-09-21/
LOCATION:5741 State Route 144\, Owensboro\, KY\, 5741 State Route 144\, Owensboro\, Kentucky\, 42303
END:VEVENT
BEGIN:VEVENT
DTSTART;TZID=America/Chicago:20250914T090000
DTEND;TZID=America/Chicago:20250914T100000
DTSTAMP:20260425T204411
CREATED:20250705T204145Z
LAST-MODIFIED:20250705T204455Z
UID:10002579-1757840400-1757844000@www.yellowcreekbaptist.com
SUMMARY:Worship Service
DESCRIPTION:Our Sunday morning service is our primary worship service for the week.  Please join us @ 9:00am each Sunday in-person\, on our FaceBook page (https://www.facebook.com/YellowCreekBaptist/)\, or on our YouTube channel (https://www.youtube.com/@yellowcreekbaptistchurch).  Come worship the Lord with us! \nIf joining us in-person\, plan to stay for our smaller\, class-sized Bible study time @ 10:30.\nCoffee and donuts are served between the service and Bible study times.
URL:https://www.yellowcreekbaptist.com/event/worship-service/2025-09-14/
LOCATION:5741 State Route 144\, Owensboro\, KY\, 5741 State Route 144\, Owensboro\, Kentucky\, 42303
END:VEVENT
BEGIN:VEVENT
DTSTART;TZID=America/Chicago:20250907T090000
DTEND;TZID=America/Chicago:20250907T100000
DTSTAMP:20260425T204411
CREATED:20250705T204145Z
LAST-MODIFIED:20250705T204455Z
UID:10002578-1757235600-1757239200@www.yellowcreekbaptist.com
SUMMARY:Worship Service
DESCRIPTION:Our Sunday morning service is our primary worship service for the week.  Please join us @ 9:00am each Sunday in-person\, on our FaceBook page (https://www.facebook.com/YellowCreekBaptist/)\, or on our YouTube channel (https://www.youtube.com/@yellowcreekbaptistchurch).  Come worship the Lord with us! \nIf joining us in-person\, plan to stay for our smaller\, class-sized Bible study time @ 10:30.\nCoffee and donuts are served between the service and Bible study times.
URL:https://www.yellowcreekbaptist.com/event/worship-service/2025-09-07/
LOCATION:5741 State Route 144\, Owensboro\, KY\, 5741 State Route 144\, Owensboro\, Kentucky\, 42303
END:VEVENT
BEGIN:VEVENT
DTSTART;TZID=America/Chicago:20250831T090000
DTEND;TZID=America/Chicago:20250831T100000
DTSTAMP:20260425T204411
CREATED:20250705T204145Z
LAST-MODIFIED:20250705T204455Z
UID:10002577-1756630800-1756634400@www.yellowcreekbaptist.com
SUMMARY:Worship Service
DESCRIPTION:Our Sunday morning service is our primary worship service for the week.  Please join us @ 9:00am each Sunday in-person\, on our FaceBook page (https://www.facebook.com/YellowCreekBaptist/)\, or on our YouTube channel (https://www.youtube.com/@yellowcreekbaptistchurch).  Come worship the Lord with us! \nIf joining us in-person\, plan to stay for our smaller\, class-sized Bible study time @ 10:30.\nCoffee and donuts are served between the service and Bible study times.
URL:https://www.yellowcreekbaptist.com/event/worship-service/2025-08-31/
LOCATION:5741 State Route 144\, Owensboro\, KY\, 5741 State Route 144\, Owensboro\, Kentucky\, 42303
END:VEVENT
BEGIN:VEVENT
DTSTART;TZID=America/Chicago:20250824T090000
DTEND;TZID=America/Chicago:20250824T100000
DTSTAMP:20260425T204411
CREATED:20250705T204145Z
LAST-MODIFIED:20250705T204455Z
UID:10002576-1756026000-1756029600@www.yellowcreekbaptist.com
SUMMARY:Worship Service
DESCRIPTION:Our Sunday morning service is our primary worship service for the week.  Please join us @ 9:00am each Sunday in-person\, on our FaceBook page (https://www.facebook.com/YellowCreekBaptist/)\, or on our YouTube channel (https://www.youtube.com/@yellowcreekbaptistchurch).  Come worship the Lord with us! \nIf joining us in-person\, plan to stay for our smaller\, class-sized Bible study time @ 10:30.\nCoffee and donuts are served between the service and Bible study times.
URL:https://www.yellowcreekbaptist.com/event/worship-service/2025-08-24/
LOCATION:5741 State Route 144\, Owensboro\, KY\, 5741 State Route 144\, Owensboro\, Kentucky\, 42303
END:VEVENT
BEGIN:VEVENT
DTSTART;TZID=America/Chicago:20250817T090000
DTEND;TZID=America/Chicago:20250817T100000
DTSTAMP:20260425T204411
CREATED:20250705T204145Z
LAST-MODIFIED:20250705T204455Z
UID:10002575-1755421200-1755424800@www.yellowcreekbaptist.com
SUMMARY:Worship Service
DESCRIPTION:Our Sunday morning service is our primary worship service for the week.  Please join us @ 9:00am each Sunday in-person\, on our FaceBook page (https://www.facebook.com/YellowCreekBaptist/)\, or on our YouTube channel (https://www.youtube.com/@yellowcreekbaptistchurch).  Come worship the Lord with us! \nIf joining us in-person\, plan to stay for our smaller\, class-sized Bible study time @ 10:30.\nCoffee and donuts are served between the service and Bible study times.
URL:https://www.yellowcreekbaptist.com/event/worship-service/2025-08-17/
LOCATION:5741 State Route 144\, Owensboro\, KY\, 5741 State Route 144\, Owensboro\, Kentucky\, 42303
END:VEVENT
BEGIN:VEVENT
DTSTART;TZID=America/Chicago:20250810T090000
DTEND;TZID=America/Chicago:20250810T100000
DTSTAMP:20260425T204411
CREATED:20250705T204145Z
LAST-MODIFIED:20250705T204455Z
UID:10002574-1754816400-1754820000@www.yellowcreekbaptist.com
SUMMARY:Worship Service
DESCRIPTION:Our Sunday morning service is our primary worship service for the week.  Please join us @ 9:00am each Sunday in-person\, on our FaceBook page (https://www.facebook.com/YellowCreekBaptist/)\, or on our YouTube channel (https://www.youtube.com/@yellowcreekbaptistchurch).  Come worship the Lord with us! \nIf joining us in-person\, plan to stay for our smaller\, class-sized Bible study time @ 10:30.\nCoffee and donuts are served between the service and Bible study times.
URL:https://www.yellowcreekbaptist.com/event/worship-service/2025-08-10/
LOCATION:5741 State Route 144\, Owensboro\, KY\, 5741 State Route 144\, Owensboro\, Kentucky\, 42303
END:VEVENT
BEGIN:VEVENT
DTSTART;TZID=America/Chicago:20250803T090000
DTEND;TZID=America/Chicago:20250803T100000
DTSTAMP:20260425T204411
CREATED:20250705T204145Z
LAST-MODIFIED:20250705T204455Z
UID:10002573-1754211600-1754215200@www.yellowcreekbaptist.com
SUMMARY:Worship Service
DESCRIPTION:Our Sunday morning service is our primary worship service for the week.  Please join us @ 9:00am each Sunday in-person\, on our FaceBook page (https://www.facebook.com/YellowCreekBaptist/)\, or on our YouTube channel (https://www.youtube.com/@yellowcreekbaptistchurch).  Come worship the Lord with us! \nIf joining us in-person\, plan to stay for our smaller\, class-sized Bible study time @ 10:30.\nCoffee and donuts are served between the service and Bible study times.
URL:https://www.yellowcreekbaptist.com/event/worship-service/2025-08-03/
LOCATION:5741 State Route 144\, Owensboro\, KY\, 5741 State Route 144\, Owensboro\, Kentucky\, 42303
END:VEVENT
BEGIN:VEVENT
DTSTART;TZID=America/Chicago:20250727T090000
DTEND;TZID=America/Chicago:20250727T100000
DTSTAMP:20260425T204411
CREATED:20250705T204145Z
LAST-MODIFIED:20250705T204455Z
UID:10002572-1753606800-1753610400@www.yellowcreekbaptist.com
SUMMARY:Worship Service
DESCRIPTION:Our Sunday morning service is our primary worship service for the week.  Please join us @ 9:00am each Sunday in-person\, on our FaceBook page (https://www.facebook.com/YellowCreekBaptist/)\, or on our YouTube channel (https://www.youtube.com/@yellowcreekbaptistchurch).  Come worship the Lord with us! \nIf joining us in-person\, plan to stay for our smaller\, class-sized Bible study time @ 10:30.\nCoffee and donuts are served between the service and Bible study times.
URL:https://www.yellowcreekbaptist.com/event/worship-service/2025-07-27/
LOCATION:5741 State Route 144\, Owensboro\, KY\, 5741 State Route 144\, Owensboro\, Kentucky\, 42303
END:VEVENT
BEGIN:VEVENT
DTSTART;TZID=America/Chicago:20250720T090000
DTEND;TZID=America/Chicago:20250720T100000
DTSTAMP:20260425T204411
CREATED:20250705T204145Z
LAST-MODIFIED:20250705T204455Z
UID:10002571-1753002000-1753005600@www.yellowcreekbaptist.com
SUMMARY:Worship Service
DESCRIPTION:Our Sunday morning service is our primary worship service for the week.  Please join us @ 9:00am each Sunday in-person\, on our FaceBook page (https://www.facebook.com/YellowCreekBaptist/)\, or on our YouTube channel (https://www.youtube.com/@yellowcreekbaptistchurch).  Come worship the Lord with us! \nIf joining us in-person\, plan to stay for our smaller\, class-sized Bible study time @ 10:30.\nCoffee and donuts are served between the service and Bible study times.
URL:https://www.yellowcreekbaptist.com/event/worship-service/2025-07-20/
LOCATION:5741 State Route 144\, Owensboro\, KY\, 5741 State Route 144\, Owensboro\, Kentucky\, 42303
END:VEVENT
BEGIN:VEVENT
DTSTART;TZID=America/Chicago:20250713T090000
DTEND;TZID=America/Chicago:20250713T100000
DTSTAMP:20260425T204411
CREATED:20250705T204145Z
LAST-MODIFIED:20250705T204455Z
UID:10002570-1752397200-1752400800@www.yellowcreekbaptist.com
SUMMARY:Worship Service
DESCRIPTION:Our Sunday morning service is our primary worship service for the week.  Please join us @ 9:00am each Sunday in-person\, on our FaceBook page (https://www.facebook.com/YellowCreekBaptist/)\, or on our YouTube channel (https://www.youtube.com/@yellowcreekbaptistchurch).  Come worship the Lord with us! \nIf joining us in-person\, plan to stay for our smaller\, class-sized Bible study time @ 10:30.\nCoffee and donuts are served between the service and Bible study times.
URL:https://www.yellowcreekbaptist.com/event/worship-service/2025-07-13/
LOCATION:5741 State Route 144\, Owensboro\, KY\, 5741 State Route 144\, Owensboro\, Kentucky\, 42303
END:VEVENT
BEGIN:VEVENT
DTSTART;TZID=America/Chicago:20250706T100000
DTEND;TZID=America/Chicago:20250706T113000
DTSTAMP:20260425T204411
CREATED:20250705T205054Z
LAST-MODIFIED:20250705T205054Z
UID:10002830-1751796000-1751801400@www.yellowcreekbaptist.com
SUMMARY:YCBC God & Country Service
DESCRIPTION:Come join us for our annual patriotic service that celebrates our veterans\, our country\, and our God!\nWe begin this worship service @ 10:00am with a meal to follow. No Sunday school.\nInvite everyone\, especially veterans\, to our annual celebration of God & Country!\n10:00am Worship\, Meal to follow in the CLC!\nLast name beginning with A-L please bring a dessert\nLast name beginning with M-Z please bring a side dish\nMain dishes and other deliciousness provided by the church
URL:https://www.yellowcreekbaptist.com/event/ycbc-god-country-service/
LOCATION:5741 State Route 144\, Owensboro\, KY\, 5741 State Route 144\, Owensboro\, Kentucky\, 42303
END:VEVENT
END:VCALENDAR