BEGIN:VCALENDAR
VERSION:2.0
PRODID:-//Yellow Creek Baptist Church - ECPv6.15.20//NONSGML v1.0//EN
CALSCALE:GREGORIAN
METHOD:PUBLISH
X-ORIGINAL-URL:https://www.yellowcreekbaptist.com
X-WR-CALDESC:Events for Yellow Creek Baptist Church
REFRESH-INTERVAL;VALUE=DURATION:PT1H
X-Robots-Tag:noindex
X-PUBLISHED-TTL:PT1H
BEGIN:VTIMEZONE
TZID:America/Chicago
BEGIN:DAYLIGHT
TZOFFSETFROM:-0600
TZOFFSETTO:-0500
TZNAME:CDT
DTSTART:20250309T080000
END:DAYLIGHT
BEGIN:STANDARD
TZOFFSETFROM:-0500
TZOFFSETTO:-0600
TZNAME:CST
DTSTART:20251102T070000
END:STANDARD
BEGIN:DAYLIGHT
TZOFFSETFROM:-0600
TZOFFSETTO:-0500
TZNAME:CDT
DTSTART:20260308T080000
END:DAYLIGHT
BEGIN:STANDARD
TZOFFSETFROM:-0500
TZOFFSETTO:-0600
TZNAME:CST
DTSTART:20261101T070000
END:STANDARD
BEGIN:DAYLIGHT
TZOFFSETFROM:-0600
TZOFFSETTO:-0500
TZNAME:CDT
DTSTART:20270314T080000
END:DAYLIGHT
BEGIN:STANDARD
TZOFFSETFROM:-0500
TZOFFSETTO:-0600
TZNAME:CST
DTSTART:20271107T070000
END:STANDARD
END:VTIMEZONE
BEGIN:VEVENT
DTSTART;TZID=America/Chicago:20260426T090000
DTEND;TZID=America/Chicago:20260426T100000
DTSTAMP:20260425T155754
CREATED:20250705T204145Z
LAST-MODIFIED:20250705T204455Z
UID:10002611-1777194000-1777197600@www.yellowcreekbaptist.com
SUMMARY:Worship Service
DESCRIPTION:Our Sunday morning service is our primary worship service for the week.  Please join us @ 9:00am each Sunday in-person\, on our FaceBook page (https://www.facebook.com/YellowCreekBaptist/)\, or on our YouTube channel (https://www.youtube.com/@yellowcreekbaptistchurch).  Come worship the Lord with us! \nIf joining us in-person\, plan to stay for our smaller\, class-sized Bible study time @ 10:30.\nCoffee and donuts are served between the service and Bible study times.
URL:https://www.yellowcreekbaptist.com/event/worship-service/2026-04-26/
LOCATION:5741 State Route 144\, Owensboro\, KY\, 5741 State Route 144\, Owensboro\, Kentucky\, 42303
END:VEVENT
BEGIN:VEVENT
DTSTART;TZID=America/Chicago:20260503T090000
DTEND;TZID=America/Chicago:20260503T100000
DTSTAMP:20260425T155754
CREATED:20250705T204145Z
LAST-MODIFIED:20250705T204455Z
UID:10002612-1777798800-1777802400@www.yellowcreekbaptist.com
SUMMARY:Worship Service
DESCRIPTION:Our Sunday morning service is our primary worship service for the week.  Please join us @ 9:00am each Sunday in-person\, on our FaceBook page (https://www.facebook.com/YellowCreekBaptist/)\, or on our YouTube channel (https://www.youtube.com/@yellowcreekbaptistchurch).  Come worship the Lord with us! \nIf joining us in-person\, plan to stay for our smaller\, class-sized Bible study time @ 10:30.\nCoffee and donuts are served between the service and Bible study times.
URL:https://www.yellowcreekbaptist.com/event/worship-service/2026-05-03/
LOCATION:5741 State Route 144\, Owensboro\, KY\, 5741 State Route 144\, Owensboro\, Kentucky\, 42303
END:VEVENT
BEGIN:VEVENT
DTSTART;TZID=America/Chicago:20260510T090000
DTEND;TZID=America/Chicago:20260510T100000
DTSTAMP:20260425T155754
CREATED:20250705T204145Z
LAST-MODIFIED:20250705T204455Z
UID:10002613-1778403600-1778407200@www.yellowcreekbaptist.com
SUMMARY:Worship Service
DESCRIPTION:Our Sunday morning service is our primary worship service for the week.  Please join us @ 9:00am each Sunday in-person\, on our FaceBook page (https://www.facebook.com/YellowCreekBaptist/)\, or on our YouTube channel (https://www.youtube.com/@yellowcreekbaptistchurch).  Come worship the Lord with us! \nIf joining us in-person\, plan to stay for our smaller\, class-sized Bible study time @ 10:30.\nCoffee and donuts are served between the service and Bible study times.
URL:https://www.yellowcreekbaptist.com/event/worship-service/2026-05-10/
LOCATION:5741 State Route 144\, Owensboro\, KY\, 5741 State Route 144\, Owensboro\, Kentucky\, 42303
END:VEVENT
BEGIN:VEVENT
DTSTART;TZID=America/Chicago:20260517T090000
DTEND;TZID=America/Chicago:20260517T100000
DTSTAMP:20260425T155754
CREATED:20250705T204145Z
LAST-MODIFIED:20250705T204455Z
UID:10002614-1779008400-1779012000@www.yellowcreekbaptist.com
SUMMARY:Worship Service
DESCRIPTION:Our Sunday morning service is our primary worship service for the week.  Please join us @ 9:00am each Sunday in-person\, on our FaceBook page (https://www.facebook.com/YellowCreekBaptist/)\, or on our YouTube channel (https://www.youtube.com/@yellowcreekbaptistchurch).  Come worship the Lord with us! \nIf joining us in-person\, plan to stay for our smaller\, class-sized Bible study time @ 10:30.\nCoffee and donuts are served between the service and Bible study times.
URL:https://www.yellowcreekbaptist.com/event/worship-service/2026-05-17/
LOCATION:5741 State Route 144\, Owensboro\, KY\, 5741 State Route 144\, Owensboro\, Kentucky\, 42303
END:VEVENT
BEGIN:VEVENT
DTSTART;TZID=America/Chicago:20260524T090000
DTEND;TZID=America/Chicago:20260524T100000
DTSTAMP:20260425T155754
CREATED:20250705T204145Z
LAST-MODIFIED:20250705T204455Z
UID:10002615-1779613200-1779616800@www.yellowcreekbaptist.com
SUMMARY:Worship Service
DESCRIPTION:Our Sunday morning service is our primary worship service for the week.  Please join us @ 9:00am each Sunday in-person\, on our FaceBook page (https://www.facebook.com/YellowCreekBaptist/)\, or on our YouTube channel (https://www.youtube.com/@yellowcreekbaptistchurch).  Come worship the Lord with us! \nIf joining us in-person\, plan to stay for our smaller\, class-sized Bible study time @ 10:30.\nCoffee and donuts are served between the service and Bible study times.
URL:https://www.yellowcreekbaptist.com/event/worship-service/2026-05-24/
LOCATION:5741 State Route 144\, Owensboro\, KY\, 5741 State Route 144\, Owensboro\, Kentucky\, 42303
END:VEVENT
BEGIN:VEVENT
DTSTART;TZID=America/Chicago:20260531T090000
DTEND;TZID=America/Chicago:20260531T100000
DTSTAMP:20260425T155754
CREATED:20250705T204145Z
LAST-MODIFIED:20250705T204455Z
UID:10002616-1780218000-1780221600@www.yellowcreekbaptist.com
SUMMARY:Worship Service
DESCRIPTION:Our Sunday morning service is our primary worship service for the week.  Please join us @ 9:00am each Sunday in-person\, on our FaceBook page (https://www.facebook.com/YellowCreekBaptist/)\, or on our YouTube channel (https://www.youtube.com/@yellowcreekbaptistchurch).  Come worship the Lord with us! \nIf joining us in-person\, plan to stay for our smaller\, class-sized Bible study time @ 10:30.\nCoffee and donuts are served between the service and Bible study times.
URL:https://www.yellowcreekbaptist.com/event/worship-service/2026-05-31/
LOCATION:5741 State Route 144\, Owensboro\, KY\, 5741 State Route 144\, Owensboro\, Kentucky\, 42303
END:VEVENT
BEGIN:VEVENT
DTSTART;TZID=America/Chicago:20260607T090000
DTEND;TZID=America/Chicago:20260607T100000
DTSTAMP:20260425T155754
CREATED:20250705T204145Z
LAST-MODIFIED:20250705T204455Z
UID:10002617-1780822800-1780826400@www.yellowcreekbaptist.com
SUMMARY:Worship Service
DESCRIPTION:Our Sunday morning service is our primary worship service for the week.  Please join us @ 9:00am each Sunday in-person\, on our FaceBook page (https://www.facebook.com/YellowCreekBaptist/)\, or on our YouTube channel (https://www.youtube.com/@yellowcreekbaptistchurch).  Come worship the Lord with us! \nIf joining us in-person\, plan to stay for our smaller\, class-sized Bible study time @ 10:30.\nCoffee and donuts are served between the service and Bible study times.
URL:https://www.yellowcreekbaptist.com/event/worship-service/2026-06-07/
LOCATION:5741 State Route 144\, Owensboro\, KY\, 5741 State Route 144\, Owensboro\, Kentucky\, 42303
END:VEVENT
BEGIN:VEVENT
DTSTART;TZID=America/Chicago:20260614T090000
DTEND;TZID=America/Chicago:20260614T100000
DTSTAMP:20260425T155754
CREATED:20250705T204145Z
LAST-MODIFIED:20250705T204455Z
UID:10002618-1781427600-1781431200@www.yellowcreekbaptist.com
SUMMARY:Worship Service
DESCRIPTION:Our Sunday morning service is our primary worship service for the week.  Please join us @ 9:00am each Sunday in-person\, on our FaceBook page (https://www.facebook.com/YellowCreekBaptist/)\, or on our YouTube channel (https://www.youtube.com/@yellowcreekbaptistchurch).  Come worship the Lord with us! \nIf joining us in-person\, plan to stay for our smaller\, class-sized Bible study time @ 10:30.\nCoffee and donuts are served between the service and Bible study times.
URL:https://www.yellowcreekbaptist.com/event/worship-service/2026-06-14/
LOCATION:5741 State Route 144\, Owensboro\, KY\, 5741 State Route 144\, Owensboro\, Kentucky\, 42303
END:VEVENT
BEGIN:VEVENT
DTSTART;TZID=America/Chicago:20260621T090000
DTEND;TZID=America/Chicago:20260621T100000
DTSTAMP:20260425T155754
CREATED:20250705T204145Z
LAST-MODIFIED:20250705T204455Z
UID:10002619-1782032400-1782036000@www.yellowcreekbaptist.com
SUMMARY:Worship Service
DESCRIPTION:Our Sunday morning service is our primary worship service for the week.  Please join us @ 9:00am each Sunday in-person\, on our FaceBook page (https://www.facebook.com/YellowCreekBaptist/)\, or on our YouTube channel (https://www.youtube.com/@yellowcreekbaptistchurch).  Come worship the Lord with us! \nIf joining us in-person\, plan to stay for our smaller\, class-sized Bible study time @ 10:30.\nCoffee and donuts are served between the service and Bible study times.
URL:https://www.yellowcreekbaptist.com/event/worship-service/2026-06-21/
LOCATION:5741 State Route 144\, Owensboro\, KY\, 5741 State Route 144\, Owensboro\, Kentucky\, 42303
END:VEVENT
BEGIN:VEVENT
DTSTART;TZID=America/Chicago:20260628T090000
DTEND;TZID=America/Chicago:20260628T100000
DTSTAMP:20260425T155754
CREATED:20250705T204145Z
LAST-MODIFIED:20250705T204455Z
UID:10002620-1782637200-1782640800@www.yellowcreekbaptist.com
SUMMARY:Worship Service
DESCRIPTION:Our Sunday morning service is our primary worship service for the week.  Please join us @ 9:00am each Sunday in-person\, on our FaceBook page (https://www.facebook.com/YellowCreekBaptist/)\, or on our YouTube channel (https://www.youtube.com/@yellowcreekbaptistchurch).  Come worship the Lord with us! \nIf joining us in-person\, plan to stay for our smaller\, class-sized Bible study time @ 10:30.\nCoffee and donuts are served between the service and Bible study times.
URL:https://www.yellowcreekbaptist.com/event/worship-service/2026-06-28/
LOCATION:5741 State Route 144\, Owensboro\, KY\, 5741 State Route 144\, Owensboro\, Kentucky\, 42303
END:VEVENT
BEGIN:VEVENT
DTSTART;TZID=America/Chicago:20260705T090000
DTEND;TZID=America/Chicago:20260705T100000
DTSTAMP:20260425T155754
CREATED:20250705T204145Z
LAST-MODIFIED:20250705T204455Z
UID:10002621-1783242000-1783245600@www.yellowcreekbaptist.com
SUMMARY:Worship Service
DESCRIPTION:Our Sunday morning service is our primary worship service for the week.  Please join us @ 9:00am each Sunday in-person\, on our FaceBook page (https://www.facebook.com/YellowCreekBaptist/)\, or on our YouTube channel (https://www.youtube.com/@yellowcreekbaptistchurch).  Come worship the Lord with us! \nIf joining us in-person\, plan to stay for our smaller\, class-sized Bible study time @ 10:30.\nCoffee and donuts are served between the service and Bible study times.
URL:https://www.yellowcreekbaptist.com/event/worship-service/2026-07-05/
LOCATION:5741 State Route 144\, Owensboro\, KY\, 5741 State Route 144\, Owensboro\, Kentucky\, 42303
END:VEVENT
BEGIN:VEVENT
DTSTART;TZID=America/Chicago:20260712T090000
DTEND;TZID=America/Chicago:20260712T100000
DTSTAMP:20260425T155754
CREATED:20250705T204145Z
LAST-MODIFIED:20250705T204455Z
UID:10002622-1783846800-1783850400@www.yellowcreekbaptist.com
SUMMARY:Worship Service
DESCRIPTION:Our Sunday morning service is our primary worship service for the week.  Please join us @ 9:00am each Sunday in-person\, on our FaceBook page (https://www.facebook.com/YellowCreekBaptist/)\, or on our YouTube channel (https://www.youtube.com/@yellowcreekbaptistchurch).  Come worship the Lord with us! \nIf joining us in-person\, plan to stay for our smaller\, class-sized Bible study time @ 10:30.\nCoffee and donuts are served between the service and Bible study times.
URL:https://www.yellowcreekbaptist.com/event/worship-service/2026-07-12/
LOCATION:5741 State Route 144\, Owensboro\, KY\, 5741 State Route 144\, Owensboro\, Kentucky\, 42303
END:VEVENT
BEGIN:VEVENT
DTSTART;TZID=America/Chicago:20260719T090000
DTEND;TZID=America/Chicago:20260719T100000
DTSTAMP:20260425T155754
CREATED:20250705T204145Z
LAST-MODIFIED:20250705T204455Z
UID:10002623-1784451600-1784455200@www.yellowcreekbaptist.com
SUMMARY:Worship Service
DESCRIPTION:Our Sunday morning service is our primary worship service for the week.  Please join us @ 9:00am each Sunday in-person\, on our FaceBook page (https://www.facebook.com/YellowCreekBaptist/)\, or on our YouTube channel (https://www.youtube.com/@yellowcreekbaptistchurch).  Come worship the Lord with us! \nIf joining us in-person\, plan to stay for our smaller\, class-sized Bible study time @ 10:30.\nCoffee and donuts are served between the service and Bible study times.
URL:https://www.yellowcreekbaptist.com/event/worship-service/2026-07-19/
LOCATION:5741 State Route 144\, Owensboro\, KY\, 5741 State Route 144\, Owensboro\, Kentucky\, 42303
END:VEVENT
BEGIN:VEVENT
DTSTART;TZID=America/Chicago:20260726T090000
DTEND;TZID=America/Chicago:20260726T100000
DTSTAMP:20260425T155754
CREATED:20250705T204145Z
LAST-MODIFIED:20250705T204455Z
UID:10002624-1785056400-1785060000@www.yellowcreekbaptist.com
SUMMARY:Worship Service
DESCRIPTION:Our Sunday morning service is our primary worship service for the week.  Please join us @ 9:00am each Sunday in-person\, on our FaceBook page (https://www.facebook.com/YellowCreekBaptist/)\, or on our YouTube channel (https://www.youtube.com/@yellowcreekbaptistchurch).  Come worship the Lord with us! \nIf joining us in-person\, plan to stay for our smaller\, class-sized Bible study time @ 10:30.\nCoffee and donuts are served between the service and Bible study times.
URL:https://www.yellowcreekbaptist.com/event/worship-service/2026-07-26/
LOCATION:5741 State Route 144\, Owensboro\, KY\, 5741 State Route 144\, Owensboro\, Kentucky\, 42303
END:VEVENT
BEGIN:VEVENT
DTSTART;TZID=America/Chicago:20260802T090000
DTEND;TZID=America/Chicago:20260802T100000
DTSTAMP:20260425T155754
CREATED:20250705T204145Z
LAST-MODIFIED:20250705T204455Z
UID:10002625-1785661200-1785664800@www.yellowcreekbaptist.com
SUMMARY:Worship Service
DESCRIPTION:Our Sunday morning service is our primary worship service for the week.  Please join us @ 9:00am each Sunday in-person\, on our FaceBook page (https://www.facebook.com/YellowCreekBaptist/)\, or on our YouTube channel (https://www.youtube.com/@yellowcreekbaptistchurch).  Come worship the Lord with us! \nIf joining us in-person\, plan to stay for our smaller\, class-sized Bible study time @ 10:30.\nCoffee and donuts are served between the service and Bible study times.
URL:https://www.yellowcreekbaptist.com/event/worship-service/2026-08-02/
LOCATION:5741 State Route 144\, Owensboro\, KY\, 5741 State Route 144\, Owensboro\, Kentucky\, 42303
END:VEVENT
BEGIN:VEVENT
DTSTART;TZID=America/Chicago:20260809T090000
DTEND;TZID=America/Chicago:20260809T100000
DTSTAMP:20260425T155754
CREATED:20250705T204145Z
LAST-MODIFIED:20250705T204455Z
UID:10002626-1786266000-1786269600@www.yellowcreekbaptist.com
SUMMARY:Worship Service
DESCRIPTION:Our Sunday morning service is our primary worship service for the week.  Please join us @ 9:00am each Sunday in-person\, on our FaceBook page (https://www.facebook.com/YellowCreekBaptist/)\, or on our YouTube channel (https://www.youtube.com/@yellowcreekbaptistchurch).  Come worship the Lord with us! \nIf joining us in-person\, plan to stay for our smaller\, class-sized Bible study time @ 10:30.\nCoffee and donuts are served between the service and Bible study times.
URL:https://www.yellowcreekbaptist.com/event/worship-service/2026-08-09/
LOCATION:5741 State Route 144\, Owensboro\, KY\, 5741 State Route 144\, Owensboro\, Kentucky\, 42303
END:VEVENT
BEGIN:VEVENT
DTSTART;TZID=America/Chicago:20260816T090000
DTEND;TZID=America/Chicago:20260816T100000
DTSTAMP:20260425T155754
CREATED:20250705T204145Z
LAST-MODIFIED:20250705T204455Z
UID:10002627-1786870800-1786874400@www.yellowcreekbaptist.com
SUMMARY:Worship Service
DESCRIPTION:Our Sunday morning service is our primary worship service for the week.  Please join us @ 9:00am each Sunday in-person\, on our FaceBook page (https://www.facebook.com/YellowCreekBaptist/)\, or on our YouTube channel (https://www.youtube.com/@yellowcreekbaptistchurch).  Come worship the Lord with us! \nIf joining us in-person\, plan to stay for our smaller\, class-sized Bible study time @ 10:30.\nCoffee and donuts are served between the service and Bible study times.
URL:https://www.yellowcreekbaptist.com/event/worship-service/2026-08-16/
LOCATION:5741 State Route 144\, Owensboro\, KY\, 5741 State Route 144\, Owensboro\, Kentucky\, 42303
END:VEVENT
BEGIN:VEVENT
DTSTART;TZID=America/Chicago:20260823T090000
DTEND;TZID=America/Chicago:20260823T100000
DTSTAMP:20260425T155754
CREATED:20250705T204145Z
LAST-MODIFIED:20250705T204455Z
UID:10002628-1787475600-1787479200@www.yellowcreekbaptist.com
SUMMARY:Worship Service
DESCRIPTION:Our Sunday morning service is our primary worship service for the week.  Please join us @ 9:00am each Sunday in-person\, on our FaceBook page (https://www.facebook.com/YellowCreekBaptist/)\, or on our YouTube channel (https://www.youtube.com/@yellowcreekbaptistchurch).  Come worship the Lord with us! \nIf joining us in-person\, plan to stay for our smaller\, class-sized Bible study time @ 10:30.\nCoffee and donuts are served between the service and Bible study times.
URL:https://www.yellowcreekbaptist.com/event/worship-service/2026-08-23/
LOCATION:5741 State Route 144\, Owensboro\, KY\, 5741 State Route 144\, Owensboro\, Kentucky\, 42303
END:VEVENT
BEGIN:VEVENT
DTSTART;TZID=America/Chicago:20260830T090000
DTEND;TZID=America/Chicago:20260830T100000
DTSTAMP:20260425T155754
CREATED:20250705T204145Z
LAST-MODIFIED:20250705T204455Z
UID:10002629-1788080400-1788084000@www.yellowcreekbaptist.com
SUMMARY:Worship Service
DESCRIPTION:Our Sunday morning service is our primary worship service for the week.  Please join us @ 9:00am each Sunday in-person\, on our FaceBook page (https://www.facebook.com/YellowCreekBaptist/)\, or on our YouTube channel (https://www.youtube.com/@yellowcreekbaptistchurch).  Come worship the Lord with us! \nIf joining us in-person\, plan to stay for our smaller\, class-sized Bible study time @ 10:30.\nCoffee and donuts are served between the service and Bible study times.
URL:https://www.yellowcreekbaptist.com/event/worship-service/2026-08-30/
LOCATION:5741 State Route 144\, Owensboro\, KY\, 5741 State Route 144\, Owensboro\, Kentucky\, 42303
END:VEVENT
BEGIN:VEVENT
DTSTART;TZID=America/Chicago:20260906T090000
DTEND;TZID=America/Chicago:20260906T100000
DTSTAMP:20260425T155754
CREATED:20250705T204145Z
LAST-MODIFIED:20250705T204455Z
UID:10002630-1788685200-1788688800@www.yellowcreekbaptist.com
SUMMARY:Worship Service
DESCRIPTION:Our Sunday morning service is our primary worship service for the week.  Please join us @ 9:00am each Sunday in-person\, on our FaceBook page (https://www.facebook.com/YellowCreekBaptist/)\, or on our YouTube channel (https://www.youtube.com/@yellowcreekbaptistchurch).  Come worship the Lord with us! \nIf joining us in-person\, plan to stay for our smaller\, class-sized Bible study time @ 10:30.\nCoffee and donuts are served between the service and Bible study times.
URL:https://www.yellowcreekbaptist.com/event/worship-service/2026-09-06/
LOCATION:5741 State Route 144\, Owensboro\, KY\, 5741 State Route 144\, Owensboro\, Kentucky\, 42303
END:VEVENT
BEGIN:VEVENT
DTSTART;TZID=America/Chicago:20260913T090000
DTEND;TZID=America/Chicago:20260913T100000
DTSTAMP:20260425T155754
CREATED:20250705T204145Z
LAST-MODIFIED:20250705T204455Z
UID:10002631-1789290000-1789293600@www.yellowcreekbaptist.com
SUMMARY:Worship Service
DESCRIPTION:Our Sunday morning service is our primary worship service for the week.  Please join us @ 9:00am each Sunday in-person\, on our FaceBook page (https://www.facebook.com/YellowCreekBaptist/)\, or on our YouTube channel (https://www.youtube.com/@yellowcreekbaptistchurch).  Come worship the Lord with us! \nIf joining us in-person\, plan to stay for our smaller\, class-sized Bible study time @ 10:30.\nCoffee and donuts are served between the service and Bible study times.
URL:https://www.yellowcreekbaptist.com/event/worship-service/2026-09-13/
LOCATION:5741 State Route 144\, Owensboro\, KY\, 5741 State Route 144\, Owensboro\, Kentucky\, 42303
END:VEVENT
BEGIN:VEVENT
DTSTART;TZID=America/Chicago:20260920T090000
DTEND;TZID=America/Chicago:20260920T100000
DTSTAMP:20260425T155754
CREATED:20250705T204145Z
LAST-MODIFIED:20250705T204455Z
UID:10002632-1789894800-1789898400@www.yellowcreekbaptist.com
SUMMARY:Worship Service
DESCRIPTION:Our Sunday morning service is our primary worship service for the week.  Please join us @ 9:00am each Sunday in-person\, on our FaceBook page (https://www.facebook.com/YellowCreekBaptist/)\, or on our YouTube channel (https://www.youtube.com/@yellowcreekbaptistchurch).  Come worship the Lord with us! \nIf joining us in-person\, plan to stay for our smaller\, class-sized Bible study time @ 10:30.\nCoffee and donuts are served between the service and Bible study times.
URL:https://www.yellowcreekbaptist.com/event/worship-service/2026-09-20/
LOCATION:5741 State Route 144\, Owensboro\, KY\, 5741 State Route 144\, Owensboro\, Kentucky\, 42303
END:VEVENT
BEGIN:VEVENT
DTSTART;TZID=America/Chicago:20260927T090000
DTEND;TZID=America/Chicago:20260927T100000
DTSTAMP:20260425T155754
CREATED:20250705T204145Z
LAST-MODIFIED:20250705T204455Z
UID:10002633-1790499600-1790503200@www.yellowcreekbaptist.com
SUMMARY:Worship Service
DESCRIPTION:Our Sunday morning service is our primary worship service for the week.  Please join us @ 9:00am each Sunday in-person\, on our FaceBook page (https://www.facebook.com/YellowCreekBaptist/)\, or on our YouTube channel (https://www.youtube.com/@yellowcreekbaptistchurch).  Come worship the Lord with us! \nIf joining us in-person\, plan to stay for our smaller\, class-sized Bible study time @ 10:30.\nCoffee and donuts are served between the service and Bible study times.
URL:https://www.yellowcreekbaptist.com/event/worship-service/2026-09-27/
LOCATION:5741 State Route 144\, Owensboro\, KY\, 5741 State Route 144\, Owensboro\, Kentucky\, 42303
END:VEVENT
BEGIN:VEVENT
DTSTART;TZID=America/Chicago:20261004T090000
DTEND;TZID=America/Chicago:20261004T100000
DTSTAMP:20260425T155754
CREATED:20250705T204145Z
LAST-MODIFIED:20250705T204455Z
UID:10002634-1791104400-1791108000@www.yellowcreekbaptist.com
SUMMARY:Worship Service
DESCRIPTION:Our Sunday morning service is our primary worship service for the week.  Please join us @ 9:00am each Sunday in-person\, on our FaceBook page (https://www.facebook.com/YellowCreekBaptist/)\, or on our YouTube channel (https://www.youtube.com/@yellowcreekbaptistchurch).  Come worship the Lord with us! \nIf joining us in-person\, plan to stay for our smaller\, class-sized Bible study time @ 10:30.\nCoffee and donuts are served between the service and Bible study times.
URL:https://www.yellowcreekbaptist.com/event/worship-service/2026-10-04/
LOCATION:5741 State Route 144\, Owensboro\, KY\, 5741 State Route 144\, Owensboro\, Kentucky\, 42303
END:VEVENT
BEGIN:VEVENT
DTSTART;TZID=America/Chicago:20261011T090000
DTEND;TZID=America/Chicago:20261011T100000
DTSTAMP:20260425T155754
CREATED:20250705T204145Z
LAST-MODIFIED:20250705T204455Z
UID:10002635-1791709200-1791712800@www.yellowcreekbaptist.com
SUMMARY:Worship Service
DESCRIPTION:Our Sunday morning service is our primary worship service for the week.  Please join us @ 9:00am each Sunday in-person\, on our FaceBook page (https://www.facebook.com/YellowCreekBaptist/)\, or on our YouTube channel (https://www.youtube.com/@yellowcreekbaptistchurch).  Come worship the Lord with us! \nIf joining us in-person\, plan to stay for our smaller\, class-sized Bible study time @ 10:30.\nCoffee and donuts are served between the service and Bible study times.
URL:https://www.yellowcreekbaptist.com/event/worship-service/2026-10-11/
LOCATION:5741 State Route 144\, Owensboro\, KY\, 5741 State Route 144\, Owensboro\, Kentucky\, 42303
END:VEVENT
BEGIN:VEVENT
DTSTART;TZID=America/Chicago:20261018T090000
DTEND;TZID=America/Chicago:20261018T100000
DTSTAMP:20260425T155754
CREATED:20250705T204145Z
LAST-MODIFIED:20250705T204455Z
UID:10002636-1792314000-1792317600@www.yellowcreekbaptist.com
SUMMARY:Worship Service
DESCRIPTION:Our Sunday morning service is our primary worship service for the week.  Please join us @ 9:00am each Sunday in-person\, on our FaceBook page (https://www.facebook.com/YellowCreekBaptist/)\, or on our YouTube channel (https://www.youtube.com/@yellowcreekbaptistchurch).  Come worship the Lord with us! \nIf joining us in-person\, plan to stay for our smaller\, class-sized Bible study time @ 10:30.\nCoffee and donuts are served between the service and Bible study times.
URL:https://www.yellowcreekbaptist.com/event/worship-service/2026-10-18/
LOCATION:5741 State Route 144\, Owensboro\, KY\, 5741 State Route 144\, Owensboro\, Kentucky\, 42303
END:VEVENT
BEGIN:VEVENT
DTSTART;TZID=America/Chicago:20261025T090000
DTEND;TZID=America/Chicago:20261025T100000
DTSTAMP:20260425T155754
CREATED:20250705T204145Z
LAST-MODIFIED:20250705T204455Z
UID:10002637-1792918800-1792922400@www.yellowcreekbaptist.com
SUMMARY:Worship Service
DESCRIPTION:Our Sunday morning service is our primary worship service for the week.  Please join us @ 9:00am each Sunday in-person\, on our FaceBook page (https://www.facebook.com/YellowCreekBaptist/)\, or on our YouTube channel (https://www.youtube.com/@yellowcreekbaptistchurch).  Come worship the Lord with us! \nIf joining us in-person\, plan to stay for our smaller\, class-sized Bible study time @ 10:30.\nCoffee and donuts are served between the service and Bible study times.
URL:https://www.yellowcreekbaptist.com/event/worship-service/2026-10-25/
LOCATION:5741 State Route 144\, Owensboro\, KY\, 5741 State Route 144\, Owensboro\, Kentucky\, 42303
END:VEVENT
BEGIN:VEVENT
DTSTART;TZID=America/Chicago:20261101T090000
DTEND;TZID=America/Chicago:20261101T100000
DTSTAMP:20260425T155754
CREATED:20250705T204145Z
LAST-MODIFIED:20250705T204455Z
UID:10002638-1793523600-1793527200@www.yellowcreekbaptist.com
SUMMARY:Worship Service
DESCRIPTION:Our Sunday morning service is our primary worship service for the week.  Please join us @ 9:00am each Sunday in-person\, on our FaceBook page (https://www.facebook.com/YellowCreekBaptist/)\, or on our YouTube channel (https://www.youtube.com/@yellowcreekbaptistchurch).  Come worship the Lord with us! \nIf joining us in-person\, plan to stay for our smaller\, class-sized Bible study time @ 10:30.\nCoffee and donuts are served between the service and Bible study times.
URL:https://www.yellowcreekbaptist.com/event/worship-service/2026-11-01/
LOCATION:5741 State Route 144\, Owensboro\, KY\, 5741 State Route 144\, Owensboro\, Kentucky\, 42303
END:VEVENT
BEGIN:VEVENT
DTSTART;TZID=America/Chicago:20261108T090000
DTEND;TZID=America/Chicago:20261108T100000
DTSTAMP:20260425T155754
CREATED:20250705T204145Z
LAST-MODIFIED:20250705T204455Z
UID:10002639-1794128400-1794132000@www.yellowcreekbaptist.com
SUMMARY:Worship Service
DESCRIPTION:Our Sunday morning service is our primary worship service for the week.  Please join us @ 9:00am each Sunday in-person\, on our FaceBook page (https://www.facebook.com/YellowCreekBaptist/)\, or on our YouTube channel (https://www.youtube.com/@yellowcreekbaptistchurch).  Come worship the Lord with us! \nIf joining us in-person\, plan to stay for our smaller\, class-sized Bible study time @ 10:30.\nCoffee and donuts are served between the service and Bible study times.
URL:https://www.yellowcreekbaptist.com/event/worship-service/2026-11-08/
LOCATION:5741 State Route 144\, Owensboro\, KY\, 5741 State Route 144\, Owensboro\, Kentucky\, 42303
END:VEVENT
BEGIN:VEVENT
DTSTART;TZID=America/Chicago:20261115T090000
DTEND;TZID=America/Chicago:20261115T100000
DTSTAMP:20260425T155754
CREATED:20250705T204145Z
LAST-MODIFIED:20250705T204455Z
UID:10002640-1794733200-1794736800@www.yellowcreekbaptist.com
SUMMARY:Worship Service
DESCRIPTION:Our Sunday morning service is our primary worship service for the week.  Please join us @ 9:00am each Sunday in-person\, on our FaceBook page (https://www.facebook.com/YellowCreekBaptist/)\, or on our YouTube channel (https://www.youtube.com/@yellowcreekbaptistchurch).  Come worship the Lord with us! \nIf joining us in-person\, plan to stay for our smaller\, class-sized Bible study time @ 10:30.\nCoffee and donuts are served between the service and Bible study times.
URL:https://www.yellowcreekbaptist.com/event/worship-service/2026-11-15/
LOCATION:5741 State Route 144\, Owensboro\, KY\, 5741 State Route 144\, Owensboro\, Kentucky\, 42303
END:VEVENT
END:VCALENDAR