BEGIN:VCALENDAR
VERSION:2.0
PRODID:-//Yellow Creek Baptist Church - ECPv6.15.20//NONSGML v1.0//EN
CALSCALE:GREGORIAN
METHOD:PUBLISH
X-ORIGINAL-URL:https://www.yellowcreekbaptist.com
X-WR-CALDESC:Events for Yellow Creek Baptist Church
REFRESH-INTERVAL;VALUE=DURATION:PT1H
X-Robots-Tag:noindex
X-PUBLISHED-TTL:PT1H
BEGIN:VTIMEZONE
TZID:America/Chicago
BEGIN:DAYLIGHT
TZOFFSETFROM:-0600
TZOFFSETTO:-0500
TZNAME:CDT
DTSTART:20240310T080000
END:DAYLIGHT
BEGIN:STANDARD
TZOFFSETFROM:-0500
TZOFFSETTO:-0600
TZNAME:CST
DTSTART:20241103T070000
END:STANDARD
BEGIN:DAYLIGHT
TZOFFSETFROM:-0600
TZOFFSETTO:-0500
TZNAME:CDT
DTSTART:20250309T080000
END:DAYLIGHT
BEGIN:STANDARD
TZOFFSETFROM:-0500
TZOFFSETTO:-0600
TZNAME:CST
DTSTART:20251102T070000
END:STANDARD
BEGIN:DAYLIGHT
TZOFFSETFROM:-0600
TZOFFSETTO:-0500
TZNAME:CDT
DTSTART:20260308T080000
END:DAYLIGHT
BEGIN:STANDARD
TZOFFSETFROM:-0500
TZOFFSETTO:-0600
TZNAME:CST
DTSTART:20261101T070000
END:STANDARD
BEGIN:DAYLIGHT
TZOFFSETFROM:-0600
TZOFFSETTO:-0500
TZNAME:CDT
DTSTART:20270314T080000
END:DAYLIGHT
BEGIN:STANDARD
TZOFFSETFROM:-0500
TZOFFSETTO:-0600
TZNAME:CST
DTSTART:20271107T070000
END:STANDARD
END:VTIMEZONE
BEGIN:VEVENT
DTSTART;TZID=America/Chicago:20260419T090000
DTEND;TZID=America/Chicago:20260419T100000
DTSTAMP:20260425T172544
CREATED:20250705T204145Z
LAST-MODIFIED:20250705T204455Z
UID:10002610-1776589200-1776592800@www.yellowcreekbaptist.com
SUMMARY:Worship Service
DESCRIPTION:Our Sunday morning service is our primary worship service for the week.  Please join us @ 9:00am each Sunday in-person\, on our FaceBook page (https://www.facebook.com/YellowCreekBaptist/)\, or on our YouTube channel (https://www.youtube.com/@yellowcreekbaptistchurch).  Come worship the Lord with us! \nIf joining us in-person\, plan to stay for our smaller\, class-sized Bible study time @ 10:30.\nCoffee and donuts are served between the service and Bible study times.
URL:https://www.yellowcreekbaptist.com/event/worship-service/2026-04-19/
LOCATION:5741 State Route 144\, Owensboro\, KY\, 5741 State Route 144\, Owensboro\, Kentucky\, 42303
END:VEVENT
BEGIN:VEVENT
DTSTART;TZID=America/Chicago:20260412T090000
DTEND;TZID=America/Chicago:20260412T100000
DTSTAMP:20260425T172544
CREATED:20250705T204145Z
LAST-MODIFIED:20250705T204455Z
UID:10002609-1775984400-1775988000@www.yellowcreekbaptist.com
SUMMARY:Worship Service
DESCRIPTION:Our Sunday morning service is our primary worship service for the week.  Please join us @ 9:00am each Sunday in-person\, on our FaceBook page (https://www.facebook.com/YellowCreekBaptist/)\, or on our YouTube channel (https://www.youtube.com/@yellowcreekbaptistchurch).  Come worship the Lord with us! \nIf joining us in-person\, plan to stay for our smaller\, class-sized Bible study time @ 10:30.\nCoffee and donuts are served between the service and Bible study times.
URL:https://www.yellowcreekbaptist.com/event/worship-service/2026-04-12/
LOCATION:5741 State Route 144\, Owensboro\, KY\, 5741 State Route 144\, Owensboro\, Kentucky\, 42303
END:VEVENT
BEGIN:VEVENT
DTSTART;TZID=America/Chicago:20260405T090000
DTEND;TZID=America/Chicago:20260405T100000
DTSTAMP:20260425T172544
CREATED:20250705T204145Z
LAST-MODIFIED:20250705T204455Z
UID:10002608-1775379600-1775383200@www.yellowcreekbaptist.com
SUMMARY:Worship Service
DESCRIPTION:Our Sunday morning service is our primary worship service for the week.  Please join us @ 9:00am each Sunday in-person\, on our FaceBook page (https://www.facebook.com/YellowCreekBaptist/)\, or on our YouTube channel (https://www.youtube.com/@yellowcreekbaptistchurch).  Come worship the Lord with us! \nIf joining us in-person\, plan to stay for our smaller\, class-sized Bible study time @ 10:30.\nCoffee and donuts are served between the service and Bible study times.
URL:https://www.yellowcreekbaptist.com/event/worship-service/2026-04-05/
LOCATION:5741 State Route 144\, Owensboro\, KY\, 5741 State Route 144\, Owensboro\, Kentucky\, 42303
END:VEVENT
BEGIN:VEVENT
DTSTART;TZID=America/Chicago:20260329T090000
DTEND;TZID=America/Chicago:20260329T100000
DTSTAMP:20260425T172544
CREATED:20250705T204145Z
LAST-MODIFIED:20250705T204455Z
UID:10002607-1774774800-1774778400@www.yellowcreekbaptist.com
SUMMARY:Worship Service
DESCRIPTION:Our Sunday morning service is our primary worship service for the week.  Please join us @ 9:00am each Sunday in-person\, on our FaceBook page (https://www.facebook.com/YellowCreekBaptist/)\, or on our YouTube channel (https://www.youtube.com/@yellowcreekbaptistchurch).  Come worship the Lord with us! \nIf joining us in-person\, plan to stay for our smaller\, class-sized Bible study time @ 10:30.\nCoffee and donuts are served between the service and Bible study times.
URL:https://www.yellowcreekbaptist.com/event/worship-service/2026-03-29/
LOCATION:5741 State Route 144\, Owensboro\, KY\, 5741 State Route 144\, Owensboro\, Kentucky\, 42303
END:VEVENT
BEGIN:VEVENT
DTSTART;TZID=America/Chicago:20260322T090000
DTEND;TZID=America/Chicago:20260322T100000
DTSTAMP:20260425T172544
CREATED:20250705T204145Z
LAST-MODIFIED:20250705T204455Z
UID:10002606-1774170000-1774173600@www.yellowcreekbaptist.com
SUMMARY:Worship Service
DESCRIPTION:Our Sunday morning service is our primary worship service for the week.  Please join us @ 9:00am each Sunday in-person\, on our FaceBook page (https://www.facebook.com/YellowCreekBaptist/)\, or on our YouTube channel (https://www.youtube.com/@yellowcreekbaptistchurch).  Come worship the Lord with us! \nIf joining us in-person\, plan to stay for our smaller\, class-sized Bible study time @ 10:30.\nCoffee and donuts are served between the service and Bible study times.
URL:https://www.yellowcreekbaptist.com/event/worship-service/2026-03-22/
LOCATION:5741 State Route 144\, Owensboro\, KY\, 5741 State Route 144\, Owensboro\, Kentucky\, 42303
END:VEVENT
BEGIN:VEVENT
DTSTART;TZID=America/Chicago:20260315T090000
DTEND;TZID=America/Chicago:20260315T100000
DTSTAMP:20260425T172544
CREATED:20250705T204145Z
LAST-MODIFIED:20250705T204455Z
UID:10002605-1773565200-1773568800@www.yellowcreekbaptist.com
SUMMARY:Worship Service
DESCRIPTION:Our Sunday morning service is our primary worship service for the week.  Please join us @ 9:00am each Sunday in-person\, on our FaceBook page (https://www.facebook.com/YellowCreekBaptist/)\, or on our YouTube channel (https://www.youtube.com/@yellowcreekbaptistchurch).  Come worship the Lord with us! \nIf joining us in-person\, plan to stay for our smaller\, class-sized Bible study time @ 10:30.\nCoffee and donuts are served between the service and Bible study times.
URL:https://www.yellowcreekbaptist.com/event/worship-service/2026-03-15/
LOCATION:5741 State Route 144\, Owensboro\, KY\, 5741 State Route 144\, Owensboro\, Kentucky\, 42303
END:VEVENT
BEGIN:VEVENT
DTSTART;TZID=America/Chicago:20260308T090000
DTEND;TZID=America/Chicago:20260308T100000
DTSTAMP:20260425T172544
CREATED:20250705T204145Z
LAST-MODIFIED:20250705T204455Z
UID:10002604-1772960400-1772964000@www.yellowcreekbaptist.com
SUMMARY:Worship Service
DESCRIPTION:Our Sunday morning service is our primary worship service for the week.  Please join us @ 9:00am each Sunday in-person\, on our FaceBook page (https://www.facebook.com/YellowCreekBaptist/)\, or on our YouTube channel (https://www.youtube.com/@yellowcreekbaptistchurch).  Come worship the Lord with us! \nIf joining us in-person\, plan to stay for our smaller\, class-sized Bible study time @ 10:30.\nCoffee and donuts are served between the service and Bible study times.
URL:https://www.yellowcreekbaptist.com/event/worship-service/2026-03-08/
LOCATION:5741 State Route 144\, Owensboro\, KY\, 5741 State Route 144\, Owensboro\, Kentucky\, 42303
END:VEVENT
BEGIN:VEVENT
DTSTART;TZID=America/Chicago:20260301T090000
DTEND;TZID=America/Chicago:20260301T100000
DTSTAMP:20260425T172544
CREATED:20250705T204145Z
LAST-MODIFIED:20250705T204455Z
UID:10002603-1772355600-1772359200@www.yellowcreekbaptist.com
SUMMARY:Worship Service
DESCRIPTION:Our Sunday morning service is our primary worship service for the week.  Please join us @ 9:00am each Sunday in-person\, on our FaceBook page (https://www.facebook.com/YellowCreekBaptist/)\, or on our YouTube channel (https://www.youtube.com/@yellowcreekbaptistchurch).  Come worship the Lord with us! \nIf joining us in-person\, plan to stay for our smaller\, class-sized Bible study time @ 10:30.\nCoffee and donuts are served between the service and Bible study times.
URL:https://www.yellowcreekbaptist.com/event/worship-service/2026-03-01/
LOCATION:5741 State Route 144\, Owensboro\, KY\, 5741 State Route 144\, Owensboro\, Kentucky\, 42303
END:VEVENT
BEGIN:VEVENT
DTSTART;TZID=America/Chicago:20260222T090000
DTEND;TZID=America/Chicago:20260222T100000
DTSTAMP:20260425T172544
CREATED:20250705T204145Z
LAST-MODIFIED:20250705T204455Z
UID:10002602-1771750800-1771754400@www.yellowcreekbaptist.com
SUMMARY:Worship Service
DESCRIPTION:Our Sunday morning service is our primary worship service for the week.  Please join us @ 9:00am each Sunday in-person\, on our FaceBook page (https://www.facebook.com/YellowCreekBaptist/)\, or on our YouTube channel (https://www.youtube.com/@yellowcreekbaptistchurch).  Come worship the Lord with us! \nIf joining us in-person\, plan to stay for our smaller\, class-sized Bible study time @ 10:30.\nCoffee and donuts are served between the service and Bible study times.
URL:https://www.yellowcreekbaptist.com/event/worship-service/2026-02-22/
LOCATION:5741 State Route 144\, Owensboro\, KY\, 5741 State Route 144\, Owensboro\, Kentucky\, 42303
END:VEVENT
BEGIN:VEVENT
DTSTART;TZID=America/Chicago:20260215T090000
DTEND;TZID=America/Chicago:20260215T100000
DTSTAMP:20260425T172544
CREATED:20250705T204145Z
LAST-MODIFIED:20250705T204455Z
UID:10002601-1771146000-1771149600@www.yellowcreekbaptist.com
SUMMARY:Worship Service
DESCRIPTION:Our Sunday morning service is our primary worship service for the week.  Please join us @ 9:00am each Sunday in-person\, on our FaceBook page (https://www.facebook.com/YellowCreekBaptist/)\, or on our YouTube channel (https://www.youtube.com/@yellowcreekbaptistchurch).  Come worship the Lord with us! \nIf joining us in-person\, plan to stay for our smaller\, class-sized Bible study time @ 10:30.\nCoffee and donuts are served between the service and Bible study times.
URL:https://www.yellowcreekbaptist.com/event/worship-service/2026-02-15/
LOCATION:5741 State Route 144\, Owensboro\, KY\, 5741 State Route 144\, Owensboro\, Kentucky\, 42303
END:VEVENT
BEGIN:VEVENT
DTSTART;TZID=America/Chicago:20260208T090000
DTEND;TZID=America/Chicago:20260208T100000
DTSTAMP:20260425T172544
CREATED:20250705T204145Z
LAST-MODIFIED:20250705T204455Z
UID:10002600-1770541200-1770544800@www.yellowcreekbaptist.com
SUMMARY:Worship Service
DESCRIPTION:Our Sunday morning service is our primary worship service for the week.  Please join us @ 9:00am each Sunday in-person\, on our FaceBook page (https://www.facebook.com/YellowCreekBaptist/)\, or on our YouTube channel (https://www.youtube.com/@yellowcreekbaptistchurch).  Come worship the Lord with us! \nIf joining us in-person\, plan to stay for our smaller\, class-sized Bible study time @ 10:30.\nCoffee and donuts are served between the service and Bible study times.
URL:https://www.yellowcreekbaptist.com/event/worship-service/2026-02-08/
LOCATION:5741 State Route 144\, Owensboro\, KY\, 5741 State Route 144\, Owensboro\, Kentucky\, 42303
END:VEVENT
BEGIN:VEVENT
DTSTART;TZID=America/Chicago:20260201T090000
DTEND;TZID=America/Chicago:20260201T100000
DTSTAMP:20260425T172544
CREATED:20250705T204145Z
LAST-MODIFIED:20250705T204455Z
UID:10002599-1769936400-1769940000@www.yellowcreekbaptist.com
SUMMARY:Worship Service
DESCRIPTION:Our Sunday morning service is our primary worship service for the week.  Please join us @ 9:00am each Sunday in-person\, on our FaceBook page (https://www.facebook.com/YellowCreekBaptist/)\, or on our YouTube channel (https://www.youtube.com/@yellowcreekbaptistchurch).  Come worship the Lord with us! \nIf joining us in-person\, plan to stay for our smaller\, class-sized Bible study time @ 10:30.\nCoffee and donuts are served between the service and Bible study times.
URL:https://www.yellowcreekbaptist.com/event/worship-service/2026-02-01/
LOCATION:5741 State Route 144\, Owensboro\, KY\, 5741 State Route 144\, Owensboro\, Kentucky\, 42303
END:VEVENT
BEGIN:VEVENT
DTSTART;TZID=America/Chicago:20260125T090000
DTEND;TZID=America/Chicago:20260125T100000
DTSTAMP:20260425T172544
CREATED:20250705T204145Z
LAST-MODIFIED:20250705T204455Z
UID:10002598-1769331600-1769335200@www.yellowcreekbaptist.com
SUMMARY:Worship Service
DESCRIPTION:Our Sunday morning service is our primary worship service for the week.  Please join us @ 9:00am each Sunday in-person\, on our FaceBook page (https://www.facebook.com/YellowCreekBaptist/)\, or on our YouTube channel (https://www.youtube.com/@yellowcreekbaptistchurch).  Come worship the Lord with us! \nIf joining us in-person\, plan to stay for our smaller\, class-sized Bible study time @ 10:30.\nCoffee and donuts are served between the service and Bible study times.
URL:https://www.yellowcreekbaptist.com/event/worship-service/2026-01-25/
LOCATION:5741 State Route 144\, Owensboro\, KY\, 5741 State Route 144\, Owensboro\, Kentucky\, 42303
END:VEVENT
BEGIN:VEVENT
DTSTART;TZID=America/Chicago:20260118T090000
DTEND;TZID=America/Chicago:20260118T100000
DTSTAMP:20260425T172544
CREATED:20250705T204145Z
LAST-MODIFIED:20250705T204455Z
UID:10002597-1768726800-1768730400@www.yellowcreekbaptist.com
SUMMARY:Worship Service
DESCRIPTION:Our Sunday morning service is our primary worship service for the week.  Please join us @ 9:00am each Sunday in-person\, on our FaceBook page (https://www.facebook.com/YellowCreekBaptist/)\, or on our YouTube channel (https://www.youtube.com/@yellowcreekbaptistchurch).  Come worship the Lord with us! \nIf joining us in-person\, plan to stay for our smaller\, class-sized Bible study time @ 10:30.\nCoffee and donuts are served between the service and Bible study times.
URL:https://www.yellowcreekbaptist.com/event/worship-service/2026-01-18/
LOCATION:5741 State Route 144\, Owensboro\, KY\, 5741 State Route 144\, Owensboro\, Kentucky\, 42303
END:VEVENT
BEGIN:VEVENT
DTSTART;TZID=America/Chicago:20260111T090000
DTEND;TZID=America/Chicago:20260111T100000
DTSTAMP:20260425T172544
CREATED:20250705T204145Z
LAST-MODIFIED:20250705T204455Z
UID:10002596-1768122000-1768125600@www.yellowcreekbaptist.com
SUMMARY:Worship Service
DESCRIPTION:Our Sunday morning service is our primary worship service for the week.  Please join us @ 9:00am each Sunday in-person\, on our FaceBook page (https://www.facebook.com/YellowCreekBaptist/)\, or on our YouTube channel (https://www.youtube.com/@yellowcreekbaptistchurch).  Come worship the Lord with us! \nIf joining us in-person\, plan to stay for our smaller\, class-sized Bible study time @ 10:30.\nCoffee and donuts are served between the service and Bible study times.
URL:https://www.yellowcreekbaptist.com/event/worship-service/2026-01-11/
LOCATION:5741 State Route 144\, Owensboro\, KY\, 5741 State Route 144\, Owensboro\, Kentucky\, 42303
END:VEVENT
BEGIN:VEVENT
DTSTART;TZID=America/Chicago:20260104T090000
DTEND;TZID=America/Chicago:20260104T100000
DTSTAMP:20260425T172544
CREATED:20250705T204145Z
LAST-MODIFIED:20250705T204455Z
UID:10002595-1767517200-1767520800@www.yellowcreekbaptist.com
SUMMARY:Worship Service
DESCRIPTION:Our Sunday morning service is our primary worship service for the week.  Please join us @ 9:00am each Sunday in-person\, on our FaceBook page (https://www.facebook.com/YellowCreekBaptist/)\, or on our YouTube channel (https://www.youtube.com/@yellowcreekbaptistchurch).  Come worship the Lord with us! \nIf joining us in-person\, plan to stay for our smaller\, class-sized Bible study time @ 10:30.\nCoffee and donuts are served between the service and Bible study times.
URL:https://www.yellowcreekbaptist.com/event/worship-service/2026-01-04/
LOCATION:5741 State Route 144\, Owensboro\, KY\, 5741 State Route 144\, Owensboro\, Kentucky\, 42303
END:VEVENT
BEGIN:VEVENT
DTSTART;TZID=America/Chicago:20251228T090000
DTEND;TZID=America/Chicago:20251228T100000
DTSTAMP:20260425T172544
CREATED:20250705T204145Z
LAST-MODIFIED:20250705T204455Z
UID:10002594-1766912400-1766916000@www.yellowcreekbaptist.com
SUMMARY:Worship Service
DESCRIPTION:Our Sunday morning service is our primary worship service for the week.  Please join us @ 9:00am each Sunday in-person\, on our FaceBook page (https://www.facebook.com/YellowCreekBaptist/)\, or on our YouTube channel (https://www.youtube.com/@yellowcreekbaptistchurch).  Come worship the Lord with us! \nIf joining us in-person\, plan to stay for our smaller\, class-sized Bible study time @ 10:30.\nCoffee and donuts are served between the service and Bible study times.
URL:https://www.yellowcreekbaptist.com/event/worship-service/2025-12-28/
LOCATION:5741 State Route 144\, Owensboro\, KY\, 5741 State Route 144\, Owensboro\, Kentucky\, 42303
END:VEVENT
BEGIN:VEVENT
DTSTART;TZID=America/Chicago:20251221T090000
DTEND;TZID=America/Chicago:20251221T100000
DTSTAMP:20260425T172544
CREATED:20250705T204145Z
LAST-MODIFIED:20250705T204455Z
UID:10002593-1766307600-1766311200@www.yellowcreekbaptist.com
SUMMARY:Worship Service
DESCRIPTION:Our Sunday morning service is our primary worship service for the week.  Please join us @ 9:00am each Sunday in-person\, on our FaceBook page (https://www.facebook.com/YellowCreekBaptist/)\, or on our YouTube channel (https://www.youtube.com/@yellowcreekbaptistchurch).  Come worship the Lord with us! \nIf joining us in-person\, plan to stay for our smaller\, class-sized Bible study time @ 10:30.\nCoffee and donuts are served between the service and Bible study times.
URL:https://www.yellowcreekbaptist.com/event/worship-service/2025-12-21/
LOCATION:5741 State Route 144\, Owensboro\, KY\, 5741 State Route 144\, Owensboro\, Kentucky\, 42303
END:VEVENT
BEGIN:VEVENT
DTSTART;TZID=America/Chicago:20251214T090000
DTEND;TZID=America/Chicago:20251214T100000
DTSTAMP:20260425T172544
CREATED:20250705T204145Z
LAST-MODIFIED:20250705T204455Z
UID:10002592-1765702800-1765706400@www.yellowcreekbaptist.com
SUMMARY:Worship Service
DESCRIPTION:Our Sunday morning service is our primary worship service for the week.  Please join us @ 9:00am each Sunday in-person\, on our FaceBook page (https://www.facebook.com/YellowCreekBaptist/)\, or on our YouTube channel (https://www.youtube.com/@yellowcreekbaptistchurch).  Come worship the Lord with us! \nIf joining us in-person\, plan to stay for our smaller\, class-sized Bible study time @ 10:30.\nCoffee and donuts are served between the service and Bible study times.
URL:https://www.yellowcreekbaptist.com/event/worship-service/2025-12-14/
LOCATION:5741 State Route 144\, Owensboro\, KY\, 5741 State Route 144\, Owensboro\, Kentucky\, 42303
END:VEVENT
BEGIN:VEVENT
DTSTART;TZID=America/Chicago:20251207T090000
DTEND;TZID=America/Chicago:20251207T100000
DTSTAMP:20260425T172544
CREATED:20250705T204145Z
LAST-MODIFIED:20250705T204455Z
UID:10002591-1765098000-1765101600@www.yellowcreekbaptist.com
SUMMARY:Worship Service
DESCRIPTION:Our Sunday morning service is our primary worship service for the week.  Please join us @ 9:00am each Sunday in-person\, on our FaceBook page (https://www.facebook.com/YellowCreekBaptist/)\, or on our YouTube channel (https://www.youtube.com/@yellowcreekbaptistchurch).  Come worship the Lord with us! \nIf joining us in-person\, plan to stay for our smaller\, class-sized Bible study time @ 10:30.\nCoffee and donuts are served between the service and Bible study times.
URL:https://www.yellowcreekbaptist.com/event/worship-service/2025-12-07/
LOCATION:5741 State Route 144\, Owensboro\, KY\, 5741 State Route 144\, Owensboro\, Kentucky\, 42303
END:VEVENT
BEGIN:VEVENT
DTSTART;TZID=America/Chicago:20251130T090000
DTEND;TZID=America/Chicago:20251130T100000
DTSTAMP:20260425T172544
CREATED:20250705T204145Z
LAST-MODIFIED:20250705T204455Z
UID:10002590-1764493200-1764496800@www.yellowcreekbaptist.com
SUMMARY:Worship Service
DESCRIPTION:Our Sunday morning service is our primary worship service for the week.  Please join us @ 9:00am each Sunday in-person\, on our FaceBook page (https://www.facebook.com/YellowCreekBaptist/)\, or on our YouTube channel (https://www.youtube.com/@yellowcreekbaptistchurch).  Come worship the Lord with us! \nIf joining us in-person\, plan to stay for our smaller\, class-sized Bible study time @ 10:30.\nCoffee and donuts are served between the service and Bible study times.
URL:https://www.yellowcreekbaptist.com/event/worship-service/2025-11-30/
LOCATION:5741 State Route 144\, Owensboro\, KY\, 5741 State Route 144\, Owensboro\, Kentucky\, 42303
END:VEVENT
BEGIN:VEVENT
DTSTART;TZID=America/Chicago:20251123T090000
DTEND;TZID=America/Chicago:20251123T100000
DTSTAMP:20260425T172544
CREATED:20250705T204145Z
LAST-MODIFIED:20250705T204455Z
UID:10002589-1763888400-1763892000@www.yellowcreekbaptist.com
SUMMARY:Worship Service
DESCRIPTION:Our Sunday morning service is our primary worship service for the week.  Please join us @ 9:00am each Sunday in-person\, on our FaceBook page (https://www.facebook.com/YellowCreekBaptist/)\, or on our YouTube channel (https://www.youtube.com/@yellowcreekbaptistchurch).  Come worship the Lord with us! \nIf joining us in-person\, plan to stay for our smaller\, class-sized Bible study time @ 10:30.\nCoffee and donuts are served between the service and Bible study times.
URL:https://www.yellowcreekbaptist.com/event/worship-service/2025-11-23/
LOCATION:5741 State Route 144\, Owensboro\, KY\, 5741 State Route 144\, Owensboro\, Kentucky\, 42303
END:VEVENT
BEGIN:VEVENT
DTSTART;TZID=America/Chicago:20251116T090000
DTEND;TZID=America/Chicago:20251116T100000
DTSTAMP:20260425T172544
CREATED:20250705T204145Z
LAST-MODIFIED:20250705T204455Z
UID:10002588-1763283600-1763287200@www.yellowcreekbaptist.com
SUMMARY:Worship Service
DESCRIPTION:Our Sunday morning service is our primary worship service for the week.  Please join us @ 9:00am each Sunday in-person\, on our FaceBook page (https://www.facebook.com/YellowCreekBaptist/)\, or on our YouTube channel (https://www.youtube.com/@yellowcreekbaptistchurch).  Come worship the Lord with us! \nIf joining us in-person\, plan to stay for our smaller\, class-sized Bible study time @ 10:30.\nCoffee and donuts are served between the service and Bible study times.
URL:https://www.yellowcreekbaptist.com/event/worship-service/2025-11-16/
LOCATION:5741 State Route 144\, Owensboro\, KY\, 5741 State Route 144\, Owensboro\, Kentucky\, 42303
END:VEVENT
BEGIN:VEVENT
DTSTART;TZID=America/Chicago:20251109T090000
DTEND;TZID=America/Chicago:20251109T100000
DTSTAMP:20260425T172544
CREATED:20250705T204145Z
LAST-MODIFIED:20250705T204455Z
UID:10002587-1762678800-1762682400@www.yellowcreekbaptist.com
SUMMARY:Worship Service
DESCRIPTION:Our Sunday morning service is our primary worship service for the week.  Please join us @ 9:00am each Sunday in-person\, on our FaceBook page (https://www.facebook.com/YellowCreekBaptist/)\, or on our YouTube channel (https://www.youtube.com/@yellowcreekbaptistchurch).  Come worship the Lord with us! \nIf joining us in-person\, plan to stay for our smaller\, class-sized Bible study time @ 10:30.\nCoffee and donuts are served between the service and Bible study times.
URL:https://www.yellowcreekbaptist.com/event/worship-service/2025-11-09/
LOCATION:5741 State Route 144\, Owensboro\, KY\, 5741 State Route 144\, Owensboro\, Kentucky\, 42303
END:VEVENT
BEGIN:VEVENT
DTSTART;TZID=America/Chicago:20251102T090000
DTEND;TZID=America/Chicago:20251102T100000
DTSTAMP:20260425T172544
CREATED:20250705T204145Z
LAST-MODIFIED:20250705T204455Z
UID:10002586-1762074000-1762077600@www.yellowcreekbaptist.com
SUMMARY:Worship Service
DESCRIPTION:Our Sunday morning service is our primary worship service for the week.  Please join us @ 9:00am each Sunday in-person\, on our FaceBook page (https://www.facebook.com/YellowCreekBaptist/)\, or on our YouTube channel (https://www.youtube.com/@yellowcreekbaptistchurch).  Come worship the Lord with us! \nIf joining us in-person\, plan to stay for our smaller\, class-sized Bible study time @ 10:30.\nCoffee and donuts are served between the service and Bible study times.
URL:https://www.yellowcreekbaptist.com/event/worship-service/2025-11-02/
LOCATION:5741 State Route 144\, Owensboro\, KY\, 5741 State Route 144\, Owensboro\, Kentucky\, 42303
END:VEVENT
BEGIN:VEVENT
DTSTART;TZID=America/Chicago:20251026T090000
DTEND;TZID=America/Chicago:20251026T100000
DTSTAMP:20260425T172544
CREATED:20250705T204145Z
LAST-MODIFIED:20250705T204455Z
UID:10002585-1761469200-1761472800@www.yellowcreekbaptist.com
SUMMARY:Worship Service
DESCRIPTION:Our Sunday morning service is our primary worship service for the week.  Please join us @ 9:00am each Sunday in-person\, on our FaceBook page (https://www.facebook.com/YellowCreekBaptist/)\, or on our YouTube channel (https://www.youtube.com/@yellowcreekbaptistchurch).  Come worship the Lord with us! \nIf joining us in-person\, plan to stay for our smaller\, class-sized Bible study time @ 10:30.\nCoffee and donuts are served between the service and Bible study times.
URL:https://www.yellowcreekbaptist.com/event/worship-service/2025-10-26/
LOCATION:5741 State Route 144\, Owensboro\, KY\, 5741 State Route 144\, Owensboro\, Kentucky\, 42303
END:VEVENT
BEGIN:VEVENT
DTSTART;TZID=America/Chicago:20251019T090000
DTEND;TZID=America/Chicago:20251019T100000
DTSTAMP:20260425T172544
CREATED:20250705T204145Z
LAST-MODIFIED:20250705T204455Z
UID:10002584-1760864400-1760868000@www.yellowcreekbaptist.com
SUMMARY:Worship Service
DESCRIPTION:Our Sunday morning service is our primary worship service for the week.  Please join us @ 9:00am each Sunday in-person\, on our FaceBook page (https://www.facebook.com/YellowCreekBaptist/)\, or on our YouTube channel (https://www.youtube.com/@yellowcreekbaptistchurch).  Come worship the Lord with us! \nIf joining us in-person\, plan to stay for our smaller\, class-sized Bible study time @ 10:30.\nCoffee and donuts are served between the service and Bible study times.
URL:https://www.yellowcreekbaptist.com/event/worship-service/2025-10-19/
LOCATION:5741 State Route 144\, Owensboro\, KY\, 5741 State Route 144\, Owensboro\, Kentucky\, 42303
END:VEVENT
BEGIN:VEVENT
DTSTART;TZID=America/Chicago:20251012T090000
DTEND;TZID=America/Chicago:20251012T100000
DTSTAMP:20260425T172544
CREATED:20250705T204145Z
LAST-MODIFIED:20250705T204455Z
UID:10002583-1760259600-1760263200@www.yellowcreekbaptist.com
SUMMARY:Worship Service
DESCRIPTION:Our Sunday morning service is our primary worship service for the week.  Please join us @ 9:00am each Sunday in-person\, on our FaceBook page (https://www.facebook.com/YellowCreekBaptist/)\, or on our YouTube channel (https://www.youtube.com/@yellowcreekbaptistchurch).  Come worship the Lord with us! \nIf joining us in-person\, plan to stay for our smaller\, class-sized Bible study time @ 10:30.\nCoffee and donuts are served between the service and Bible study times.
URL:https://www.yellowcreekbaptist.com/event/worship-service/2025-10-12/
LOCATION:5741 State Route 144\, Owensboro\, KY\, 5741 State Route 144\, Owensboro\, Kentucky\, 42303
END:VEVENT
BEGIN:VEVENT
DTSTART;TZID=America/Chicago:20251005T090000
DTEND;TZID=America/Chicago:20251005T100000
DTSTAMP:20260425T172544
CREATED:20250705T204145Z
LAST-MODIFIED:20250705T204455Z
UID:10002582-1759654800-1759658400@www.yellowcreekbaptist.com
SUMMARY:Worship Service
DESCRIPTION:Our Sunday morning service is our primary worship service for the week.  Please join us @ 9:00am each Sunday in-person\, on our FaceBook page (https://www.facebook.com/YellowCreekBaptist/)\, or on our YouTube channel (https://www.youtube.com/@yellowcreekbaptistchurch).  Come worship the Lord with us! \nIf joining us in-person\, plan to stay for our smaller\, class-sized Bible study time @ 10:30.\nCoffee and donuts are served between the service and Bible study times.
URL:https://www.yellowcreekbaptist.com/event/worship-service/2025-10-05/
LOCATION:5741 State Route 144\, Owensboro\, KY\, 5741 State Route 144\, Owensboro\, Kentucky\, 42303
END:VEVENT
BEGIN:VEVENT
DTSTART;TZID=America/Chicago:20250928T090000
DTEND;TZID=America/Chicago:20250928T100000
DTSTAMP:20260425T172544
CREATED:20250705T204145Z
LAST-MODIFIED:20250705T204455Z
UID:10002581-1759050000-1759053600@www.yellowcreekbaptist.com
SUMMARY:Worship Service
DESCRIPTION:Our Sunday morning service is our primary worship service for the week.  Please join us @ 9:00am each Sunday in-person\, on our FaceBook page (https://www.facebook.com/YellowCreekBaptist/)\, or on our YouTube channel (https://www.youtube.com/@yellowcreekbaptistchurch).  Come worship the Lord with us! \nIf joining us in-person\, plan to stay for our smaller\, class-sized Bible study time @ 10:30.\nCoffee and donuts are served between the service and Bible study times.
URL:https://www.yellowcreekbaptist.com/event/worship-service/2025-09-28/
LOCATION:5741 State Route 144\, Owensboro\, KY\, 5741 State Route 144\, Owensboro\, Kentucky\, 42303
END:VEVENT
END:VCALENDAR